BEGIN:VCALENDAR
VERSION:2.0
PRODID:https://www.kufer.de/kuferweb / DE
METHOD:PUBLISH
CALSCALE:GREGORIAN
X-WR-TIMEZONE:Europe/Berlin
BEGIN:VTIMEZONE
TZID:Europe/Berlin
X-LIC-LOCATION:Europe/Berlin
BEGIN:DAYLIGHT
TZOFFSETFROM:+0100
TZOFFSETTO:+0200
TZNAME:CEST
DTSTART:19700329T020000
RRULE:FREQ=YEARLY;INTERVAL=1;BYDAY=-1SU;BYMONTH=3
END:DAYLIGHT
BEGIN:STANDARD
TZOFFSETFROM:+0200
TZOFFSETTO:+0100
TZNAME:CET
DTSTART:19701025T030000
RRULE:FREQ=YEARLY;INTERVAL=1;BYDAY=-1SU;BYMONTH=10
END:STANDARD
END:VTIMEZONE
BEGIN:VEVENT
DTSTAMP:20260425T164207
DTSTART;TZID=Europe/Berlin:20260828T170000
DTEND;TZID=Europe/Berlin:20260828T213000
UID:OHEB30505-20260828T170000@VHSNORDSACHSEN
SUMMARY:Brötchen backen mit Hefe- oder Sauerteig. Mit den Vorteilen der Übernachtgare zu knusprigen Brötchen!  (OHEB30505) 
LOCATION:Eilenburg, Dr.-Külz-Ring 9, Haus Rinckart, 3.33, Dr.-Külz-Ring 9, 04838 Eilenburg
END:VEVENT
BEGIN:VEVENT
DTSTAMP:20260425T164207
DTSTART;TZID=Europe/Berlin:20260829T100000
DTEND;TZID=Europe/Berlin:20260829T170000
UID:OHEB30505-20260829T100000@VHSNORDSACHSEN
SUMMARY:Brötchen backen mit Hefe- oder Sauerteig. Mit den Vorteilen der Übernachtgare zu knusprigen Brötchen!  (OHEB30505) 
LOCATION:Eilenburg, Dr.-Külz-Ring 9, Haus Rinckart, 3.33, Dr.-Külz-Ring 9, 04838 Eilenburg
END:VEVENT
END:VCALENDAR