BEGIN:VCALENDAR
VERSION:2.0
PRODID:https://www.kufer.de/kuferweb / DE
METHOD:PUBLISH
CALSCALE:GREGORIAN
X-WR-TIMEZONE:Europe/Berlin
BEGIN:VTIMEZONE
TZID:Europe/Berlin
X-LIC-LOCATION:Europe/Berlin
BEGIN:DAYLIGHT
TZOFFSETFROM:+0100
TZOFFSETTO:+0200
TZNAME:CEST
DTSTART:19700329T020000
RRULE:FREQ=YEARLY;INTERVAL=1;BYDAY=-1SU;BYMONTH=3
END:DAYLIGHT
BEGIN:STANDARD
TZOFFSETFROM:+0200
TZOFFSETTO:+0100
TZNAME:CET
DTSTART:19701025T030000
RRULE:FREQ=YEARLY;INTERVAL=1;BYDAY=-1SU;BYMONTH=10
END:STANDARD
END:VTIMEZONE
BEGIN:VEVENT
DTSTAMP:20260420T205522
DTSTART;TZID=Europe/Berlin:20260520T201500
DTEND;TZID=Europe/Berlin:20260520T214500
UID:OFTG30135-20260520T201500@VHSNORDSACHSEN
SUMMARY:Hatha Yoga "Einatmen, ausatmen, lächeln" (OFTG30135) 
LOCATION:Torgau, Puschkinstr. 3, VHS, Raum 1.03, Puschkinstraße 3, 04860 Torgau
END:VEVENT
BEGIN:VEVENT
DTSTAMP:20260420T205522
DTSTART;TZID=Europe/Berlin:20260527T201500
DTEND;TZID=Europe/Berlin:20260527T214500
UID:OFTG30135-20260527T201500@VHSNORDSACHSEN
SUMMARY:Hatha Yoga "Einatmen, ausatmen, lächeln" (OFTG30135) 
LOCATION:Torgau, Puschkinstr. 3, VHS, Raum 1.03, Puschkinstraße 3, 04860 Torgau
END:VEVENT
BEGIN:VEVENT
DTSTAMP:20260420T205522
DTSTART;TZID=Europe/Berlin:20260603T201500
DTEND;TZID=Europe/Berlin:20260603T214500
UID:OFTG30135-20260603T201500@VHSNORDSACHSEN
SUMMARY:Hatha Yoga "Einatmen, ausatmen, lächeln" (OFTG30135) 
LOCATION:Torgau, Puschkinstr. 3, VHS, Raum 1.03, Puschkinstraße 3, 04860 Torgau
END:VEVENT
BEGIN:VEVENT
DTSTAMP:20260420T205522
DTSTART;TZID=Europe/Berlin:20260610T201500
DTEND;TZID=Europe/Berlin:20260610T214500
UID:OFTG30135-20260610T201500@VHSNORDSACHSEN
SUMMARY:Hatha Yoga "Einatmen, ausatmen, lächeln" (OFTG30135) 
LOCATION:Torgau, Puschkinstr. 3, VHS, Raum 1.03, Puschkinstraße 3, 04860 Torgau
END:VEVENT
BEGIN:VEVENT
DTSTAMP:20260420T205522
DTSTART;TZID=Europe/Berlin:20260624T201500
DTEND;TZID=Europe/Berlin:20260624T214500
UID:OFTG30135-20260624T201500@VHSNORDSACHSEN
DESCRIPTION:Ersatz für Ausfall am 17.06.2026
SUMMARY:Hatha Yoga "Einatmen, ausatmen, lächeln" (OFTG30135) 
LOCATION:Torgau, Puschkinstr. 3, VHS, Raum 1.03, Puschkinstraße 3, 04860 Torgau
END:VEVENT
END:VCALENDAR