BEGIN:VCALENDAR
VERSION:2.0
PRODID:https://www.kufer.de/kuferweb / DE
METHOD:PUBLISH
CALSCALE:GREGORIAN
X-WR-TIMEZONE:Europe/Berlin
BEGIN:VTIMEZONE
TZID:Europe/Berlin
X-LIC-LOCATION:Europe/Berlin
BEGIN:DAYLIGHT
TZOFFSETFROM:+0100
TZOFFSETTO:+0200
TZNAME:CEST
DTSTART:19700329T020000
RRULE:FREQ=YEARLY;INTERVAL=1;BYDAY=-1SU;BYMONTH=3
END:DAYLIGHT
BEGIN:STANDARD
TZOFFSETFROM:+0200
TZOFFSETTO:+0100
TZNAME:CET
DTSTART:19701025T030000
RRULE:FREQ=YEARLY;INTERVAL=1;BYDAY=-1SU;BYMONTH=10
END:STANDARD
END:VTIMEZONE
BEGIN:VEVENT
DTSTAMP:20260423T115144
DTSTART;TZID=Europe/Berlin:20260226T191500
DTEND;TZID=Europe/Berlin:20260226T201500
UID:OFTG30133-20260226T191500@VHSNORDSACHSEN
SUMMARY:Yoga für Enthusiasten (OFTG30133) 
LOCATION:Torgau, Puschkinstr. 3, VHS, Raum 1.03, Puschkinstraße 3, 04860 Torgau
END:VEVENT
BEGIN:VEVENT
DTSTAMP:20260423T115144
DTSTART;TZID=Europe/Berlin:20260305T191500
DTEND;TZID=Europe/Berlin:20260305T201500
UID:OFTG30133-20260305T191500@VHSNORDSACHSEN
SUMMARY:Yoga für Enthusiasten (OFTG30133) 
LOCATION:Torgau, Puschkinstr. 3, VHS, Raum 1.03, Puschkinstraße 3, 04860 Torgau
END:VEVENT
BEGIN:VEVENT
DTSTAMP:20260423T115144
DTSTART;TZID=Europe/Berlin:20260312T191500
DTEND;TZID=Europe/Berlin:20260312T201500
UID:OFTG30133-20260312T191500@VHSNORDSACHSEN
SUMMARY:Yoga für Enthusiasten (OFTG30133) 
LOCATION:Torgau, Puschkinstr. 3, VHS, Raum 1.03, Puschkinstraße 3, 04860 Torgau
END:VEVENT
BEGIN:VEVENT
DTSTAMP:20260423T115144
DTSTART;TZID=Europe/Berlin:20260326T191500
DTEND;TZID=Europe/Berlin:20260326T201500
UID:OFTG30133-20260326T191500@VHSNORDSACHSEN
SUMMARY:Yoga für Enthusiasten (OFTG30133) 
LOCATION:Torgau, Puschkinstr. 3, VHS, Raum 1.03, Puschkinstraße 3, 04860 Torgau
END:VEVENT
BEGIN:VEVENT
DTSTAMP:20260423T115144
DTSTART;TZID=Europe/Berlin:20260409T191500
DTEND;TZID=Europe/Berlin:20260409T201500
UID:OFTG30133-20260409T191500@VHSNORDSACHSEN
DESCRIPTION:Ersatz für Ausfall am 19.03.2026
SUMMARY:Yoga für Enthusiasten (OFTG30133) 
LOCATION:Torgau, Puschkinstr. 3, VHS, Raum 1.03, Puschkinstraße 3, 04860 Torgau
END:VEVENT
BEGIN:VEVENT
DTSTAMP:20260423T115144
DTSTART;TZID=Europe/Berlin:20260416T191500
DTEND;TZID=Europe/Berlin:20260416T201500
UID:OFTG30133-20260416T191500@VHSNORDSACHSEN
SUMMARY:Yoga für Enthusiasten (OFTG30133) 
LOCATION:Torgau, Puschkinstr. 3, VHS, Raum 1.03, Puschkinstraße 3, 04860 Torgau
END:VEVENT
BEGIN:VEVENT
DTSTAMP:20260423T115144
DTSTART;TZID=Europe/Berlin:20260423T191500
DTEND;TZID=Europe/Berlin:20260423T201500
UID:OFTG30133-20260423T191500@VHSNORDSACHSEN
SUMMARY:Yoga für Enthusiasten (OFTG30133) 
LOCATION:Torgau, Puschkinstr. 3, VHS, Raum 1.03, Puschkinstraße 3, 04860 Torgau
END:VEVENT
BEGIN:VEVENT
DTSTAMP:20260423T115144
DTSTART;TZID=Europe/Berlin:20260430T191500
DTEND;TZID=Europe/Berlin:20260430T201500
UID:OFTG30133-20260430T191500@VHSNORDSACHSEN
SUMMARY:Yoga für Enthusiasten (OFTG30133) 
LOCATION:Torgau, Puschkinstr. 3, VHS, Raum 1.03, Puschkinstraße 3, 04860 Torgau
END:VEVENT
BEGIN:VEVENT
DTSTAMP:20260423T115144
DTSTART;TZID=Europe/Berlin:20260507T191500
DTEND;TZID=Europe/Berlin:20260507T201500
UID:OFTG30133-20260507T191500@VHSNORDSACHSEN
SUMMARY:Yoga für Enthusiasten (OFTG30133) 
LOCATION:Torgau, Puschkinstr. 3, VHS, Raum 1.03, Puschkinstraße 3, 04860 Torgau
END:VEVENT
BEGIN:VEVENT
DTSTAMP:20260423T115144
DTSTART;TZID=Europe/Berlin:20260521T191500
DTEND;TZID=Europe/Berlin:20260521T201500
UID:OFTG30133-20260521T191500@VHSNORDSACHSEN
SUMMARY:Yoga für Enthusiasten (OFTG30133) 
LOCATION:Torgau, Puschkinstr. 3, VHS, Raum 1.03, Puschkinstraße 3, 04860 Torgau
END:VEVENT
BEGIN:VEVENT
DTSTAMP:20260423T115144
DTSTART;TZID=Europe/Berlin:20260528T191500
DTEND;TZID=Europe/Berlin:20260528T201500
UID:OFTG30133-20260528T191500@VHSNORDSACHSEN
SUMMARY:Yoga für Enthusiasten (OFTG30133) 
LOCATION:Torgau, Puschkinstr. 3, VHS, Raum 1.03, Puschkinstraße 3, 04860 Torgau
END:VEVENT
BEGIN:VEVENT
DTSTAMP:20260423T115144
DTSTART;TZID=Europe/Berlin:20260604T191500
DTEND;TZID=Europe/Berlin:20260604T201500
UID:OFTG30133-20260604T191500@VHSNORDSACHSEN
SUMMARY:Yoga für Enthusiasten (OFTG30133) 
LOCATION:Torgau, Puschkinstr. 3, VHS, Raum 1.03, Puschkinstraße 3, 04860 Torgau
END:VEVENT
END:VCALENDAR