BEGIN:VCALENDAR
VERSION:2.0
PRODID:https://www.kufer.de/kuferweb / DE
METHOD:PUBLISH
CALSCALE:GREGORIAN
X-WR-TIMEZONE:Europe/Berlin
BEGIN:VTIMEZONE
TZID:Europe/Berlin
X-LIC-LOCATION:Europe/Berlin
BEGIN:DAYLIGHT
TZOFFSETFROM:+0100
TZOFFSETTO:+0200
TZNAME:CEST
DTSTART:19700329T020000
RRULE:FREQ=YEARLY;INTERVAL=1;BYDAY=-1SU;BYMONTH=3
END:DAYLIGHT
BEGIN:STANDARD
TZOFFSETFROM:+0200
TZOFFSETTO:+0100
TZNAME:CET
DTSTART:19701025T030000
RRULE:FREQ=YEARLY;INTERVAL=1;BYDAY=-1SU;BYMONTH=10
END:STANDARD
END:VTIMEZONE
BEGIN:VEVENT
DTSTAMP:20260423T131241
DTSTART;TZID=Europe/Berlin:20260602T180000
DTEND;TZID=Europe/Berlin:20260602T193000
UID:OFTG30117-20260602T180000@VHSNORDSACHSEN
SUMMARY:Hatha Yoga für Anfängerinnen (OFTG30117) 
LOCATION:Torgau, Puschkinstr. 3, VHS, Raum 1.06, Puschkinstraße 3, 04860 Torgau
END:VEVENT
BEGIN:VEVENT
DTSTAMP:20260423T131241
DTSTART;TZID=Europe/Berlin:20260609T180000
DTEND;TZID=Europe/Berlin:20260609T193000
UID:OFTG30117-20260609T180000@VHSNORDSACHSEN
SUMMARY:Hatha Yoga für Anfängerinnen (OFTG30117) 
LOCATION:Torgau, Puschkinstr. 3, VHS, Raum 1.06, Puschkinstraße 3, 04860 Torgau
END:VEVENT
BEGIN:VEVENT
DTSTAMP:20260423T131241
DTSTART;TZID=Europe/Berlin:20260616T180000
DTEND;TZID=Europe/Berlin:20260616T193000
UID:OFTG30117-20260616T180000@VHSNORDSACHSEN
SUMMARY:Hatha Yoga für Anfängerinnen (OFTG30117) 
LOCATION:Torgau, Puschkinstr. 3, VHS, Raum 1.06, Puschkinstraße 3, 04860 Torgau
END:VEVENT
BEGIN:VEVENT
DTSTAMP:20260423T131241
DTSTART;TZID=Europe/Berlin:20260623T180000
DTEND;TZID=Europe/Berlin:20260623T193000
UID:OFTG30117-20260623T180000@VHSNORDSACHSEN
SUMMARY:Hatha Yoga für Anfängerinnen (OFTG30117) 
LOCATION:Torgau, Puschkinstr. 3, VHS, Raum 1.06, Puschkinstraße 3, 04860 Torgau
END:VEVENT
BEGIN:VEVENT
DTSTAMP:20260423T131241
DTSTART;TZID=Europe/Berlin:20260630T180000
DTEND;TZID=Europe/Berlin:20260630T193000
UID:OFTG30117-20260630T180000@VHSNORDSACHSEN
SUMMARY:Hatha Yoga für Anfängerinnen (OFTG30117) 
LOCATION:Torgau, Puschkinstr. 3, VHS, Raum 1.06, Puschkinstraße 3, 04860 Torgau
END:VEVENT
BEGIN:VEVENT
DTSTAMP:20260423T131241
DTSTART;TZID=Europe/Berlin:20260707T180000
DTEND;TZID=Europe/Berlin:20260707T193000
UID:OFTG30117-20260707T180000@VHSNORDSACHSEN
SUMMARY:Hatha Yoga für Anfängerinnen (OFTG30117) 
LOCATION:Torgau, Puschkinstr. 3, VHS, Raum 1.06, Puschkinstraße 3, 04860 Torgau
END:VEVENT
BEGIN:VEVENT
DTSTAMP:20260423T131241
DTSTART;TZID=Europe/Berlin:20260714T180000
DTEND;TZID=Europe/Berlin:20260714T193000
UID:OFTG30117-20260714T180000@VHSNORDSACHSEN
DESCRIPTION:Ersatz für Ausfall am 19.05.2026
SUMMARY:Hatha Yoga für Anfängerinnen (OFTG30117) 
LOCATION:Torgau, Puschkinstr. 3, VHS, Raum 1.06, Puschkinstraße 3, 04860 Torgau
END:VEVENT
BEGIN:VEVENT
DTSTAMP:20260423T131241
DTSTART;TZID=Europe/Berlin:20260721T180000
DTEND;TZID=Europe/Berlin:20260721T193000
UID:OFTG30117-20260721T180000@VHSNORDSACHSEN
DESCRIPTION:Ersatz für Ausfall am 26.05.2026
SUMMARY:Hatha Yoga für Anfängerinnen (OFTG30117) 
LOCATION:Torgau, Puschkinstr. 3, VHS, Raum 1.06, Puschkinstraße 3, 04860 Torgau
END:VEVENT
END:VCALENDAR