BEGIN:VCALENDAR
VERSION:2.0
PRODID:https://www.kufer.de/kuferweb / DE
METHOD:PUBLISH
CALSCALE:GREGORIAN
X-WR-TIMEZONE:Europe/Berlin
BEGIN:VTIMEZONE
TZID:Europe/Berlin
X-LIC-LOCATION:Europe/Berlin
BEGIN:DAYLIGHT
TZOFFSETFROM:+0100
TZOFFSETTO:+0200
TZNAME:CEST
DTSTART:19700329T020000
RRULE:FREQ=YEARLY;INTERVAL=1;BYDAY=-1SU;BYMONTH=3
END:DAYLIGHT
BEGIN:STANDARD
TZOFFSETFROM:+0200
TZOFFSETTO:+0100
TZNAME:CET
DTSTART:19701025T030000
RRULE:FREQ=YEARLY;INTERVAL=1;BYDAY=-1SU;BYMONTH=10
END:STANDARD
END:VTIMEZONE
BEGIN:VEVENT
DTSTAMP:20260423T125213
DTSTART;TZID=Europe/Berlin:20260423T170000
DTEND;TZID=Europe/Berlin:20260423T181500
UID:OFTA21314-20260423T170000@VHSNORDSACHSEN
SUMMARY:Gitarre spielen (ohne Noten) Aufbaukurs und Wiedereinstieg (OFTA21314) 
LOCATION:Taucha, Geschw.-Scholl-Str. 4, Gymnasium, Raum  3, Geschwister-Scholl-Str. 4, 04425 Taucha
END:VEVENT
BEGIN:VEVENT
DTSTAMP:20260423T125213
DTSTART;TZID=Europe/Berlin:20260430T170000
DTEND;TZID=Europe/Berlin:20260430T181500
UID:OFTA21314-20260430T170000@VHSNORDSACHSEN
SUMMARY:Gitarre spielen (ohne Noten) Aufbaukurs und Wiedereinstieg (OFTA21314) 
LOCATION:Taucha, Geschw.-Scholl-Str. 4, Gymnasium, Raum  3, Geschwister-Scholl-Str. 4, 04425 Taucha
END:VEVENT
BEGIN:VEVENT
DTSTAMP:20260423T125213
DTSTART;TZID=Europe/Berlin:20260507T170000
DTEND;TZID=Europe/Berlin:20260507T181500
UID:OFTA21314-20260507T170000@VHSNORDSACHSEN
SUMMARY:Gitarre spielen (ohne Noten) Aufbaukurs und Wiedereinstieg (OFTA21314) 
LOCATION:Taucha, Geschw.-Scholl-Str. 4, Gymnasium, Raum  3, Geschwister-Scholl-Str. 4, 04425 Taucha
END:VEVENT
BEGIN:VEVENT
DTSTAMP:20260423T125213
DTSTART;TZID=Europe/Berlin:20260521T170000
DTEND;TZID=Europe/Berlin:20260521T181500
UID:OFTA21314-20260521T170000@VHSNORDSACHSEN
SUMMARY:Gitarre spielen (ohne Noten) Aufbaukurs und Wiedereinstieg (OFTA21314) 
LOCATION:Taucha, Geschw.-Scholl-Str. 4, Gymnasium, Raum  3, Geschwister-Scholl-Str. 4, 04425 Taucha
END:VEVENT
BEGIN:VEVENT
DTSTAMP:20260423T125213
DTSTART;TZID=Europe/Berlin:20260528T170000
DTEND;TZID=Europe/Berlin:20260528T181500
UID:OFTA21314-20260528T170000@VHSNORDSACHSEN
SUMMARY:Gitarre spielen (ohne Noten) Aufbaukurs und Wiedereinstieg (OFTA21314) 
LOCATION:Taucha, Geschw.-Scholl-Str. 4, Gymnasium, Raum  3, Geschwister-Scholl-Str. 4, 04425 Taucha
END:VEVENT
BEGIN:VEVENT
DTSTAMP:20260423T125213
DTSTART;TZID=Europe/Berlin:20260604T170000
DTEND;TZID=Europe/Berlin:20260604T181500
UID:OFTA21314-20260604T170000@VHSNORDSACHSEN
SUMMARY:Gitarre spielen (ohne Noten) Aufbaukurs und Wiedereinstieg (OFTA21314) 
LOCATION:Taucha, Geschw.-Scholl-Str. 4, Gymnasium, Raum  3, Geschwister-Scholl-Str. 4, 04425 Taucha
END:VEVENT
BEGIN:VEVENT
DTSTAMP:20260423T125213
DTSTART;TZID=Europe/Berlin:20260611T170000
DTEND;TZID=Europe/Berlin:20260611T181500
UID:OFTA21314-20260611T170000@VHSNORDSACHSEN
SUMMARY:Gitarre spielen (ohne Noten) Aufbaukurs und Wiedereinstieg (OFTA21314) 
LOCATION:Taucha, Geschw.-Scholl-Str. 4, Gymnasium, Raum  3, Geschwister-Scholl-Str. 4, 04425 Taucha
END:VEVENT
BEGIN:VEVENT
DTSTAMP:20260423T125213
DTSTART;TZID=Europe/Berlin:20260618T170000
DTEND;TZID=Europe/Berlin:20260618T181500
UID:OFTA21314-20260618T170000@VHSNORDSACHSEN
SUMMARY:Gitarre spielen (ohne Noten) Aufbaukurs und Wiedereinstieg (OFTA21314) 
LOCATION:Taucha, Geschw.-Scholl-Str. 4, Gymnasium, Raum  3, Geschwister-Scholl-Str. 4, 04425 Taucha
END:VEVENT
BEGIN:VEVENT
DTSTAMP:20260423T125213
DTSTART;TZID=Europe/Berlin:20260625T170000
DTEND;TZID=Europe/Berlin:20260625T181500
UID:OFTA21314-20260625T170000@VHSNORDSACHSEN
SUMMARY:Gitarre spielen (ohne Noten) Aufbaukurs und Wiedereinstieg (OFTA21314) 
LOCATION:Taucha, Geschw.-Scholl-Str. 4, Gymnasium, Raum  3, Geschwister-Scholl-Str. 4, 04425 Taucha
END:VEVENT
END:VCALENDAR