BEGIN:VCALENDAR
VERSION:2.0
PRODID:https://www.kufer.de/kuferweb / DE
METHOD:PUBLISH
CALSCALE:GREGORIAN
X-WR-TIMEZONE:Europe/Berlin
BEGIN:VTIMEZONE
TZID:Europe/Berlin
X-LIC-LOCATION:Europe/Berlin
BEGIN:DAYLIGHT
TZOFFSETFROM:+0100
TZOFFSETTO:+0200
TZNAME:CEST
DTSTART:19700329T020000
RRULE:FREQ=YEARLY;INTERVAL=1;BYDAY=-1SU;BYMONTH=3
END:DAYLIGHT
BEGIN:STANDARD
TZOFFSETFROM:+0200
TZOFFSETTO:+0100
TZNAME:CET
DTSTART:19701025T030000
RRULE:FREQ=YEARLY;INTERVAL=1;BYDAY=-1SU;BYMONTH=10
END:STANDARD
END:VTIMEZONE
BEGIN:VEVENT
DTSTAMP:20260420T150828
DTSTART;TZID=Europe/Berlin:20251106T180000
DTEND;TZID=Europe/Berlin:20251106T193000
UID:NHTG42001-20251106T180000@VHSNORDSACHSEN
SUMMARY:Schwedisch A1.3 (NHTG42001) 
LOCATION:Torgau, Puschkinstr. 3, VHS, Raum 1.11, Puschkinstraße 3, 04860 Torgau
END:VEVENT
BEGIN:VEVENT
DTSTAMP:20260420T150828
DTSTART;TZID=Europe/Berlin:20251120T180000
DTEND;TZID=Europe/Berlin:20251120T193000
UID:NHTG42001-20251120T180000@VHSNORDSACHSEN
SUMMARY:Schwedisch A1.3 (NHTG42001) 
LOCATION:Torgau, Puschkinstr. 3, VHS, Raum 1.11, Puschkinstraße 3, 04860 Torgau
END:VEVENT
BEGIN:VEVENT
DTSTAMP:20260420T150828
DTSTART;TZID=Europe/Berlin:20251211T180000
DTEND;TZID=Europe/Berlin:20251211T193000
UID:NHTG42001-20251211T180000@VHSNORDSACHSEN
SUMMARY:Schwedisch A1.3 (NHTG42001) 
LOCATION:Torgau, Puschkinstr. 3, VHS, Raum 1.11, Puschkinstraße 3, 04860 Torgau
END:VEVENT
BEGIN:VEVENT
DTSTAMP:20260420T150828
DTSTART;TZID=Europe/Berlin:20251218T180000
DTEND;TZID=Europe/Berlin:20251218T193000
UID:NHTG42001-20251218T180000@VHSNORDSACHSEN
SUMMARY:Schwedisch A1.3 (NHTG42001) 
LOCATION:Torgau, Puschkinstr. 3, VHS, Raum 1.11, Puschkinstraße 3, 04860 Torgau
END:VEVENT
BEGIN:VEVENT
DTSTAMP:20260420T150828
DTSTART;TZID=Europe/Berlin:20260108T180000
DTEND;TZID=Europe/Berlin:20260108T193000
UID:NHTG42001-20260108T180000@VHSNORDSACHSEN
SUMMARY:Schwedisch A1.3 (NHTG42001) 
LOCATION:Torgau, Puschkinstr. 3, VHS, Raum 1.11, Puschkinstraße 3, 04860 Torgau
END:VEVENT
BEGIN:VEVENT
DTSTAMP:20260420T150828
DTSTART;TZID=Europe/Berlin:20260115T180000
DTEND;TZID=Europe/Berlin:20260115T193000
UID:NHTG42001-20260115T180000@VHSNORDSACHSEN
SUMMARY:Schwedisch A1.3 (NHTG42001) 
LOCATION:Torgau, Puschkinstr. 3, VHS, Raum 1.11, Puschkinstraße 3, 04860 Torgau
END:VEVENT
BEGIN:VEVENT
DTSTAMP:20260420T150828
DTSTART;TZID=Europe/Berlin:20260122T180000
DTEND;TZID=Europe/Berlin:20260122T193000
UID:NHTG42001-20260122T180000@VHSNORDSACHSEN
SUMMARY:Schwedisch A1.3 (NHTG42001) 
LOCATION:Torgau, Puschkinstr. 3, VHS, Raum 1.11, Puschkinstraße 3, 04860 Torgau
END:VEVENT
BEGIN:VEVENT
DTSTAMP:20260420T150828
DTSTART;TZID=Europe/Berlin:20260129T180000
DTEND;TZID=Europe/Berlin:20260129T193000
UID:NHTG42001-20260129T180000@VHSNORDSACHSEN
SUMMARY:Schwedisch A1.3 (NHTG42001) 
LOCATION:Torgau, Puschkinstr. 3, VHS, Raum 1.11, Puschkinstraße 3, 04860 Torgau
END:VEVENT
BEGIN:VEVENT
DTSTAMP:20260420T150828
DTSTART;TZID=Europe/Berlin:20260212T180000
DTEND;TZID=Europe/Berlin:20260212T193000
UID:NHTG42001-20260212T180000@VHSNORDSACHSEN
DESCRIPTION:Ersatz für Ausfall am 05.02.2026
SUMMARY:Schwedisch A1.3 (NHTG42001) 
LOCATION:Torgau, Puschkinstr. 3, VHS, Raum 1.11, Puschkinstraße 3, 04860 Torgau
END:VEVENT
BEGIN:VEVENT
DTSTAMP:20260420T150828
DTSTART;TZID=Europe/Berlin:20260219T180000
DTEND;TZID=Europe/Berlin:20260219T193000
UID:NHTG42001-20260219T180000@VHSNORDSACHSEN
DESCRIPTION:Ersatz für Ausfall am 27.11.2025
SUMMARY:Schwedisch A1.3 (NHTG42001) 
LOCATION:Torgau, Puschkinstr. 3, VHS, Raum 1.11, Puschkinstraße 3, 04860 Torgau
END:VEVENT
BEGIN:VEVENT
DTSTAMP:20260420T150828
DTSTART;TZID=Europe/Berlin:20260226T180000
DTEND;TZID=Europe/Berlin:20260226T193000
UID:NHTG42001-20260226T180000@VHSNORDSACHSEN
SUMMARY:Schwedisch A1.3 (NHTG42001) 
LOCATION:Torgau, Puschkinstr. 3, VHS, Raum 1.11, Puschkinstraße 3, 04860 Torgau
END:VEVENT
BEGIN:VEVENT
DTSTAMP:20260420T150828
DTSTART;TZID=Europe/Berlin:20260305T180000
DTEND;TZID=Europe/Berlin:20260305T193000
UID:NHTG42001-20260305T180000@VHSNORDSACHSEN
DESCRIPTION:Ersatz für Ausfall am 23.10.2025
SUMMARY:Schwedisch A1.3 (NHTG42001) 
LOCATION:Torgau, Puschkinstr. 3, VHS, Raum 1.11, Puschkinstraße 3, 04860 Torgau
END:VEVENT
BEGIN:VEVENT
DTSTAMP:20260420T150828
DTSTART;TZID=Europe/Berlin:20260319T180000
DTEND;TZID=Europe/Berlin:20260319T193000
UID:NHTG42001-20260319T180000@VHSNORDSACHSEN
DESCRIPTION:Ersatz für Ausfall am 13.11.2025
SUMMARY:Schwedisch A1.3 (NHTG42001) 
LOCATION:Torgau, Puschkinstr. 3, VHS, Raum 1.11, Puschkinstraße 3, 04860 Torgau
END:VEVENT
BEGIN:VEVENT
DTSTAMP:20260420T150828
DTSTART;TZID=Europe/Berlin:20260326T180000
DTEND;TZID=Europe/Berlin:20260326T193000
UID:NHTG42001-20260326T180000@VHSNORDSACHSEN
DESCRIPTION:Ersatz für Ausfall am 04.12.2025
SUMMARY:Schwedisch A1.3 (NHTG42001) 
LOCATION:Torgau, Puschkinstr. 3, VHS, Raum 1.11, Puschkinstraße 3, 04860 Torgau
END:VEVENT
BEGIN:VEVENT
DTSTAMP:20260420T150828
DTSTART;TZID=Europe/Berlin:20260402T180000
DTEND;TZID=Europe/Berlin:20260402T193000
UID:NHTG42001-20260402T180000@VHSNORDSACHSEN
DESCRIPTION:Ersatz für Ausfall am 30.10.2025 Ersatz für Ausfall am 12.03.2026
SUMMARY:Schwedisch A1.3 (NHTG42001) 
LOCATION:Torgau, Puschkinstr. 3, VHS, Raum 1.11, Puschkinstraße 3, 04860 Torgau
END:VEVENT
BEGIN:VEVENT
DTSTAMP:20260420T150828
DTSTART;TZID=Europe/Berlin:20260409T180000
DTEND;TZID=Europe/Berlin:20260409T193000
UID:NHTG42001-20260409T180000@VHSNORDSACHSEN
SUMMARY:Schwedisch A1.3 (NHTG42001) 
LOCATION:Torgau, Puschkinstr. 3, VHS, Raum 1.11, Puschkinstraße 3, 04860 Torgau
END:VEVENT
BEGIN:VEVENT
DTSTAMP:20260420T150828
DTSTART;TZID=Europe/Berlin:20260416T180000
DTEND;TZID=Europe/Berlin:20260416T193000
UID:NHTG42001-20260416T180000@VHSNORDSACHSEN
SUMMARY:Schwedisch A1.3 (NHTG42001) 
LOCATION:Torgau, Puschkinstr. 3, VHS, Raum 1.11, Puschkinstraße 3, 04860 Torgau
END:VEVENT
BEGIN:VEVENT
DTSTAMP:20260420T150828
DTSTART;TZID=Europe/Berlin:20260423T180000
DTEND;TZID=Europe/Berlin:20260423T193000
UID:NHTG42001-20260423T180000@VHSNORDSACHSEN
SUMMARY:Schwedisch A1.3 (NHTG42001) 
LOCATION:Torgau, Puschkinstr. 3, VHS, Raum 1.11, Puschkinstraße 3, 04860 Torgau
END:VEVENT
END:VCALENDAR